BEGIN:VCALENDAR
PRODID:-//eluceo/ical//2.0/EN
VERSION:2.0
CALSCALE:GREGORIAN
BEGIN:VEVENT
UID:ce61d801571e89b9d1c2c2b6f2b10f3a
DTSTAMP:20260419T122037Z
SUMMARY:Kanalrensning 2025
DESCRIPTION:
URL:https://2365.rotarysverige.org/sv/agenda/show/212911
DTSTART;TZID=Europe/Zurich:20250515T100000
DTEND;TZID=Europe/Zurich:20250517T170000
LOCATION:Vallgraven i Göteborg
CATEGORIES:Rotary
END:VEVENT
BEGIN:VTIMEZONE
TZID:Europe/Zurich
BEGIN:DAYLIGHT
DTSTART:20250515T100000
TZNAME:CEST
TZOFFSETTO:+0200
TZOFFSETFROM:+0200
END:DAYLIGHT
END:VTIMEZONE
END:VCALENDAR
