BEGIN:VCALENDAR
PRODID:-//eluceo/ical//2.0/EN
VERSION:2.0
CALSCALE:GREGORIAN
BEGIN:VEVENT
UID:4caf3c00944185a30761f81cc93fdd63
DTSTAMP:20260419T164223Z
SUMMARY:Utbildning för IT-samordnare på PETS
DESCRIPTION:Talare: Ulf Andersson
URL:https://2365.rotarysverige.org/sv/agenda/show/212218
DTSTART;TZID=Europe/Zurich:20250308T103000
DTEND;TZID=Europe/Zurich:20250308T113000
LOCATION:PETS Jönköping
CATEGORIES:Rotary
END:VEVENT
BEGIN:VTIMEZONE
TZID:Europe/Zurich
BEGIN:STANDARD
DTSTART:20250308T103000
TZNAME:CET
TZOFFSETTO:+0100
TZOFFSETFROM:+0100
END:STANDARD
END:VTIMEZONE
END:VCALENDAR
